BEGIN:VCALENDAR
VERSION:2.0
PRODID:-//Squarespace Inc/Squarespace 6//v6//EN
BEGIN:VEVENT
UID:5e4d189b47a94c61101e758e@squarespace.com
DTSTAMP:20200508T080545Z
DTSTART:20200512T060000Z
DTEND:20200512T151500Z
SUMMARY:ANNULÉ - 10 ans du CHL ACADEMY
GEO:49.618725;6.101101
LOCATION:Centre Hospitalier de Luxembourg\, 4 Rue Nicolas Ernest Barblé\, L
 -1210 Luxembourg\, Luxembourg
END:VEVENT
END:VCALENDAR
