BEGIN:VCALENDAR
VERSION:2.0
PRODID:-//Squarespace Inc/Squarespace 6//v6//EN
BEGIN:VEVENT
UID:5e4bd6e601c72f4e3e8316f6@squarespace.com
DTSTAMP:20200312T133426Z
DTSTART:20200331T140000Z
DTEND:20200331T160000Z
SUMMARY:REPORTÉ : « Avenir de la Profession Soignante »
GEO:49.504553;5.948429
LOCATION:Université du Luxembourg  - Maison du Savoir\, 2\, Avenue de l'Uni
 versite\, L-4365 Esch-sur-Alzette\, Luxembourg
END:VEVENT
END:VCALENDAR
