BEGIN:VCALENDAR
VERSION:2.0
PRODID:-//Squarespace Inc/Squarespace 6//v6//EN
BEGIN:VEVENT
UID:5e4bf7a5065dc80ce722080f@squarespace.com
DTSTAMP:20200707T073405Z
DTSTART:20201022T140000Z
DTEND:20201022T160000Z
SUMMARY:ANNULÉ : « Diffusion des connaissances scientifiques de la recherch
 e à la pratique infirmière »
GEO:49.504553;5.948429
LOCATION:Université du Luxembourg - Maison du Savoir\, 2\, Avenue de l'Univ
 ersite\, L-4365 Esch-sur-Alzette\, Luxembourg
END:VEVENT
END:VCALENDAR
