BEGIN:VCALENDAR
VERSION:2.0
PRODID:-//Squarespace Inc/Squarespace 6//v6//EN
BEGIN:VEVENT
UID:5e4bd87547efbd6a69b88c39@squarespace.com
DTSTAMP:20200306T110351Z
DTSTART:20200430T140000Z
DTEND:20200430T160000Z
SUMMARY:« Florence Nightingale\, la première  Éco-infirmière ? »
GEO:49.618469;6.142465
LOCATION:Philharmonie Luxembourg\, 1 Place de l'Europe\, Luxembourg\, Distr
 ict de Luxembourg\, 1499\, Luxembourg
END:VEVENT
END:VCALENDAR
