BEGIN:VCALENDAR
VERSION:2.0
PRODID:-//Squarespace Inc/Squarespace 6//v6//EN
BEGIN:VEVENT
UID:5e4bda7547efbd6a69b8d51f@squarespace.com
DTSTAMP:20200508T080800Z
DTSTART:20200630T140000Z
DTEND:20200630T160000Z
SUMMARY:ANNULÉ : « Le métier de sage-femme aujourd’hui et demain »
GEO:49.504553;5.948429
LOCATION:Université du Luxembourg - Maison du Savoir\, 2\, Avenue de l'Univ
 ersite\, L-4365 Esch-sur-Alzette\, Luxembourg
END:VEVENT
END:VCALENDAR
