BEGIN:VCALENDAR
VERSION:2.0
PRODID:-//Squarespace Inc/Squarespace 6//v6//EN
BEGIN:VEVENT
UID:5e4bf53d74f9be5e2109210b@squarespace.com
DTSTAMP:20200707T073346Z
DTSTART:20200929T140000Z
DTEND:20200929T160000Z
SUMMARY:ANNULÉ : « Transforming the Impact of Nursing on Global Health and 
 Care »
GEO:49.504553;5.948429
LOCATION:Université du Luxembourg - Maison du Savoir\, 2\, Avenue de l'Univ
 ersite\, L-4365 Esch-sur-Alzette\, Luxembourg
END:VEVENT
END:VCALENDAR
