BEGIN:VCALENDAR
VERSION:2.0
PRODID:-//Squarespace Inc/Squarespace 6//v6//EN
BEGIN:VEVENT
UID:5e4bf8c471f6217a28f89a1e@squarespace.com
DTSTAMP:20200707T073426Z
DTSTART:20201102T150000Z
DTEND:20201102T170000Z
SUMMARY:ANNULÉ : « Vers un monde en bonne santé »
GEO:49.618469;6.142465
LOCATION:Philharmonie Luxembourg\, 1 Place de l'Europe\, Luxembourg\, Distr
 ict de Luxembourg\, 1499\, Luxembourg
END:VEVENT
END:VCALENDAR
